Package: BOBaFIT Version: 1.8.0 Command: chmod a+r BOBaFIT -R && E:\biocbuild\bbs-3.19-bioc\R\bin\R.exe CMD build --keep-empty-dirs --no-resave-data BOBaFIT StartedAt: 2024-10-16 17:56:57 -0400 (Wed, 16 Oct 2024) EndedAt: 2024-10-16 17:59:12 -0400 (Wed, 16 Oct 2024) EllapsedTime: 134.9 seconds RetCode: 0 Status: OK PackageFile: BOBaFIT_1.8.0.tar.gz PackageFileSize: 2.498 MiB