Package: BOBaFIT Version: 1.8.0 Command: /home/biocbuild/bbs-3.19-bioc/R/bin/R CMD check --install=check:BOBaFIT.install-out.txt --library=/home/biocbuild/bbs-3.19-bioc/R/site-library --timings BOBaFIT_1.8.0.tar.gz StartedAt: 2024-10-16 22:16:30 -0400 (Wed, 16 Oct 2024) EndedAt: 2024-10-16 22:24:17 -0400 (Wed, 16 Oct 2024) EllapsedTime: 467.0 seconds RetCode: 0 Status: WARNINGS CheckDir: BOBaFIT.Rcheck Warnings: 1