Package: BOBaFIT Version: 1.8.0 Command: rm -rf BOBaFIT.buildbin-libdir && mkdir BOBaFIT.buildbin-libdir && /Users/biocbuild/BBS/utils/build-universal.sh BOBaFIT_1.8.0.tar.gz /Library/Frameworks/R.framework/Resources/bin/R BOBaFIT.buildbin-libdir StartedAt: 2024-06-11 10:23:08 -0400 (Tue, 11 Jun 2024) EndedAt: 2024-06-11 10:25:04 -0400 (Tue, 11 Jun 2024) EllapsedTime: 115.9 seconds RetCode: 0 Status: OK PackageFile: BOBaFIT_1.8.0.tgz PackageFileSize: 2.445 MiB