Package: BOBaFIT Version: 1.8.0 Command: /Library/Frameworks/R.framework/Resources/bin/R CMD build --keep-empty-dirs --no-resave-data BOBaFIT StartedAt: 2024-10-16 20:38:28 -0400 (Wed, 16 Oct 2024) EndedAt: 2024-10-16 20:40:29 -0400 (Wed, 16 Oct 2024) EllapsedTime: 121.0 seconds RetCode: 0 Status: OK PackageFile: BOBaFIT_1.8.0.tar.gz PackageFileSize: 2.496 MiB