Package: BOBaFIT Version: 1.8.0 Command: rm -rf BOBaFIT.buildbin-libdir && mkdir BOBaFIT.buildbin-libdir && /Users/biocbuild/BBS/utils/build-universal.sh BOBaFIT_1.8.0.tar.gz /Library/Frameworks/R.framework/Resources/bin/R BOBaFIT.buildbin-libdir StartedAt: 2024-10-18 17:34:22 -0400 (Fri, 18 Oct 2024) EndedAt: 2024-10-18 17:35:35 -0400 (Fri, 18 Oct 2024) EllapsedTime: 73.2 seconds RetCode: 0 Status: OK PackageFile: BOBaFIT_1.8.0.tgz PackageFileSize: 2.445 MiB