Package: BOBaFIT Version: 1.8.0 Maintainer: Gaia Mazzocchetti MaintainerEmail: bioinformatic.seragnoli at gmail.com git_url: https://git.bioconductor.org/packages/BOBaFIT git_branch: RELEASE_3_19 git_last_commit: f0189db git_last_commit_date: 2024-04-30 11:39:42 -0400 (Tue, 30 Apr 2024)