Package: BLMA Version: 1.28.0 Command: chmod a+r BLMA -R && E:\biocbuild\bbs-3.19-bioc\R\bin\R.exe CMD build --keep-empty-dirs --no-resave-data BLMA StartedAt: 2024-10-16 17:56:32 -0400 (Wed, 16 Oct 2024) EndedAt: 2024-10-16 18:01:57 -0400 (Wed, 16 Oct 2024) EllapsedTime: 325.2 seconds RetCode: 0 Status: OK PackageFile: BLMA_1.28.0.tar.gz PackageFileSize: 2.678 MiB