Package: BLMA Version: 1.28.0 Command: F:\biocbuild\bbs-3.19-bioc\R\bin\R.exe CMD INSTALL BLMA StartedAt: 2024-06-26 16:02:00 -0400 (Wed, 26 Jun 2024) EndedAt: 2024-06-26 16:02:40 -0400 (Wed, 26 Jun 2024) EllapsedTime: 39.9 seconds RetCode: 0 Status: OK