Package: BLMA Version: 1.28.0 Command: rm -rf BLMA.buildbin-libdir && mkdir BLMA.buildbin-libdir && /Users/biocbuild/BBS/utils/build-universal.sh BLMA_1.28.0.tar.gz /Library/Frameworks/R.framework/Resources/bin/R BLMA.buildbin-libdir StartedAt: 2024-06-10 00:09:00 -0400 (Mon, 10 Jun 2024) EndedAt: 2024-06-10 00:09:30 -0400 (Mon, 10 Jun 2024) EllapsedTime: 30.1 seconds RetCode: 0 Status: OK PackageFile: BLMA_1.28.0.tgz PackageFileSize: 2.891 MiB