Package: BLMA Version: 1.28.0 Command: /home/biocbuild/R/R-beta-2024-04-15_r86425/bin/R CMD build --keep-empty-dirs --no-resave-data BLMA StartedAt: 2024-05-08 22:52:00 -0000 (Wed, 08 May 2024) EndedAt: 2024-05-08 22:59:03 -0000 (Wed, 08 May 2024) EllapsedTime: 422.5 seconds RetCode: 0 Status: OK PackageFile: BLMA_1.28.0.tar.gz PackageFileSize: 2.816 MiB