Package: BHC Version: 1.56.0 Command: E:\biocbuild\bbs-3.19-bioc\R\bin\R.exe CMD check --no-multiarch --install=check:BHC.install-out.txt --library=E:\biocbuild\bbs-3.19-bioc\R\library --no-vignettes --timings BHC_1.56.0.tar.gz StartedAt: 2024-10-16 23:09:33 -0400 (Wed, 16 Oct 2024) EndedAt: 2024-10-16 23:10:22 -0400 (Wed, 16 Oct 2024) EllapsedTime: 48.3 seconds RetCode: 0 Status: OK CheckDir: BHC.Rcheck Warnings: 0