Package: BHC Version: 1.56.0 Command: rm -rf BHC.buildbin-libdir && mkdir BHC.buildbin-libdir && E:\biocbuild\bbs-3.19-bioc\R\bin\R.exe CMD INSTALL --build --library=BHC.buildbin-libdir BHC_1.56.0.tar.gz StartedAt: 2024-10-17 07:23:44 -0400 (Thu, 17 Oct 2024) EndedAt: 2024-10-17 07:24:24 -0400 (Thu, 17 Oct 2024) EllapsedTime: 39.6 seconds RetCode: 0 Status: OK PackageFile: BHC_1.56.0.zip PackageFileSize: 508.6 KiB