Package: BHC Version: 1.56.0 Command: /Library/Frameworks/R.framework/Resources/bin/R CMD build --keep-empty-dirs --no-resave-data BHC StartedAt: 2024-10-16 17:20:26 -0400 (Wed, 16 Oct 2024) EndedAt: 2024-10-16 17:20:50 -0400 (Wed, 16 Oct 2024) EllapsedTime: 24.0 seconds RetCode: 1 Status: ERROR PackageFile: None PackageFileSize: NA