Package: BHC Version: 1.56.0 Command: /home/biocbuild/R/R-beta-2024-04-15_r86425/bin/R CMD build --keep-empty-dirs --no-resave-data BHC StartedAt: 2024-05-08 22:40:09 -0000 (Wed, 08 May 2024) EndedAt: 2024-05-08 22:40:53 -0000 (Wed, 08 May 2024) EllapsedTime: 43.1 seconds RetCode: 0 Status: OK PackageFile: BHC_1.56.0.tar.gz PackageFileSize: 210.5 KiB