Package: BHC Version: 1.56.0 Command: /Library/Frameworks/R.framework/Resources/bin/R CMD INSTALL BHC StartedAt: 2024-10-16 16:51:15 -0400 (Wed, 16 Oct 2024) EndedAt: 2024-10-16 16:51:27 -0400 (Wed, 16 Oct 2024) EllapsedTime: 11.9 seconds RetCode: 1 Status: ERROR