Package: BHC Version: 1.56.0 Command: /Library/Frameworks/R.framework/Resources/bin/R CMD build --keep-empty-dirs --no-resave-data BHC StartedAt: 2024-10-16 20:09:07 -0400 (Wed, 16 Oct 2024) EndedAt: 2024-10-16 20:09:21 -0400 (Wed, 16 Oct 2024) EllapsedTime: 13.4 seconds RetCode: 1 Status: ERROR PackageFile: None PackageFileSize: NA