Package: BG2 Version: 1.4.0 Command: E:\biocbuild\bbs-3.19-bioc\R\bin\R.exe CMD check --no-multiarch --install=check:BG2.install-out.txt --library=E:\biocbuild\bbs-3.19-bioc\R\library --no-vignettes --timings BG2_1.4.0.tar.gz StartedAt: 2024-10-16 23:08:45 -0400 (Wed, 16 Oct 2024) EndedAt: 2024-10-16 23:19:09 -0400 (Wed, 16 Oct 2024) EllapsedTime: 624.2 seconds RetCode: 0 Status: OK CheckDir: BG2.Rcheck Warnings: 0