Package: BG2 Version: 1.4.0 Command: /home/biocbuild/R/R-beta-2024-04-15_r86425/bin/R CMD build --keep-empty-dirs --no-resave-data BG2 StartedAt: 2024-05-08 22:38:28 -0000 (Wed, 08 May 2024) EndedAt: 2024-05-08 22:45:08 -0000 (Wed, 08 May 2024) EllapsedTime: 399.5 seconds RetCode: 0 Status: OK PackageFile: BG2_1.4.0.tar.gz PackageFileSize: 1.155 MiB