Package: BG2 Version: 1.4.0 Command: /Library/Frameworks/R.framework/Resources/bin/R CMD check --install=check:BG2.install-out.txt --library=/Library/Frameworks/R.framework/Resources/library --no-vignettes --timings BG2_1.4.0.tar.gz StartedAt: 2024-06-10 08:23:35 -0400 (Mon, 10 Jun 2024) EndedAt: 2024-06-10 08:37:08 -0400 (Mon, 10 Jun 2024) EllapsedTime: 813.1 seconds RetCode: 0 Status: OK CheckDir: BG2.Rcheck Warnings: 0