Package: BG2 Version: 1.4.0 Command: rm -rf BG2.buildbin-libdir && mkdir BG2.buildbin-libdir && /Users/biocbuild/BBS/utils/build-universal.sh BG2_1.4.0.tar.gz /Library/Frameworks/R.framework/Resources/bin/R BG2.buildbin-libdir StartedAt: 2024-06-11 10:16:52 -0400 (Tue, 11 Jun 2024) EndedAt: 2024-06-11 10:17:03 -0400 (Tue, 11 Jun 2024) EllapsedTime: 10.9 seconds RetCode: 0 Status: OK PackageFile: BG2_1.4.0.tgz PackageFileSize: 1.165 MiB