Package: BEclear Version: 2.20.0 Command: /home/biocbuild/R/R-beta-2024-04-15_r86425/bin/R CMD INSTALL BEclear StartedAt: 2024-05-08 20:21:39 -0000 (Wed, 08 May 2024) EndedAt: 2024-05-08 20:22:04 -0000 (Wed, 08 May 2024) EllapsedTime: 25.4 seconds RetCode: 0 Status: OK