Package: BEclear Version: 2.20.0 Command: /Library/Frameworks/R.framework/Resources/bin/R CMD build --keep-empty-dirs --no-resave-data BEclear StartedAt: 2024-06-09 18:31:39 -0400 (Sun, 09 Jun 2024) EndedAt: 2024-06-09 18:32:29 -0400 (Sun, 09 Jun 2024) EllapsedTime: 50.1 seconds RetCode: 0 Status: OK PackageFile: BEclear_2.20.0.tar.gz PackageFileSize: 717.3 KiB