Package: BEclear Version: 2.20.0 Command: /Library/Frameworks/R.framework/Resources/bin/R CMD build --keep-empty-dirs --no-resave-data BEclear StartedAt: 2024-10-16 20:04:00 -0400 (Wed, 16 Oct 2024) EndedAt: 2024-10-16 20:04:30 -0400 (Wed, 16 Oct 2024) EllapsedTime: 29.5 seconds RetCode: 0 Status: OK PackageFile: BEclear_2.20.0.tar.gz PackageFileSize: 716.9 KiB