Package: BEclear Version: 2.20.0 Command: rm -rf BEclear.buildbin-libdir && mkdir BEclear.buildbin-libdir && /Users/biocbuild/BBS/utils/build-universal.sh BEclear_2.20.0.tar.gz /Library/Frameworks/R.framework/Resources/bin/R BEclear.buildbin-libdir StartedAt: 2024-10-18 17:26:43 -0400 (Fri, 18 Oct 2024) EndedAt: 2024-10-18 17:27:02 -0400 (Fri, 18 Oct 2024) EllapsedTime: 19.2 seconds RetCode: 0 Status: OK PackageFile: BEclear_2.20.0.tgz PackageFileSize: 796.6 KiB