Package: BERT Version: 1.0.0 Command: rm -rf BERT.buildbin-libdir && mkdir BERT.buildbin-libdir && /Users/biocbuild/BBS/utils/build-universal.sh BERT_1.0.0.tar.gz /Library/Frameworks/R.framework/Resources/bin/R BERT.buildbin-libdir StartedAt: 2024-10-17 15:41:46 -0400 (Thu, 17 Oct 2024) EndedAt: 2024-10-17 15:41:53 -0400 (Thu, 17 Oct 2024) EllapsedTime: 6.5 seconds RetCode: 0 Status: OK PackageFile: BERT_1.0.0.tgz PackageFileSize: 322.2 KiB