Package: BERT Version: 1.0.0 Command: /Library/Frameworks/R.framework/Resources/bin/R CMD INSTALL BERT StartedAt: 2024-10-16 17:54:22 -0400 (Wed, 16 Oct 2024) EndedAt: 2024-10-16 17:54:25 -0400 (Wed, 16 Oct 2024) EllapsedTime: 3.5 seconds RetCode: 0 Status: OK