Package: BEAT Version: 1.42.0 Command: chmod a+r BEAT -R && E:\biocbuild\bbs-3.19-bioc\R\bin\R.exe CMD build --keep-empty-dirs --no-resave-data BEAT StartedAt: 2024-10-16 17:42:58 -0400 (Wed, 16 Oct 2024) EndedAt: 2024-10-16 17:44:49 -0400 (Wed, 16 Oct 2024) EllapsedTime: 111.0 seconds RetCode: 0 Status: OK PackageFile: BEAT_1.42.0.tar.gz PackageFileSize: 3.133 MiB