Package: BEAT Version: 1.42.0 Command: rm -rf BEAT.buildbin-libdir && mkdir BEAT.buildbin-libdir && /Users/biocbuild/BBS/utils/build-universal.sh BEAT_1.42.0.tar.gz /Library/Frameworks/R.framework/Resources/bin/R BEAT.buildbin-libdir StartedAt: 2024-10-17 15:41:37 -0400 (Thu, 17 Oct 2024) EndedAt: 2024-10-17 15:43:01 -0400 (Thu, 17 Oct 2024) EllapsedTime: 83.7 seconds RetCode: 0 Status: OK PackageFile: BEAT_1.42.0.tgz PackageFileSize: 3.349 MiB