Package: BEARscc Version: 1.24.0 Command: E:\biocbuild\bbs-3.19-bioc\R\bin\R.exe CMD check --no-multiarch --install=check:BEARscc.install-out.txt --library=E:\biocbuild\bbs-3.19-bioc\R\library --no-vignettes --timings BEARscc_1.24.0.tar.gz StartedAt: 2024-10-16 23:07:15 -0400 (Wed, 16 Oct 2024) EndedAt: 2024-10-16 23:11:21 -0400 (Wed, 16 Oct 2024) EllapsedTime: 245.7 seconds RetCode: 1 Status: ERROR CheckDir: BEARscc.Rcheck Warnings: NA