Package: BEARscc Version: 1.24.0 Command: rm -rf BEARscc.buildbin-libdir && mkdir BEARscc.buildbin-libdir && E:\biocbuild\bbs-3.19-bioc\R\bin\R.exe CMD INSTALL --build --library=BEARscc.buildbin-libdir BEARscc_1.24.0.tar.gz StartedAt: 2024-10-17 07:23:17 -0400 (Thu, 17 Oct 2024) EndedAt: 2024-10-17 07:23:58 -0400 (Thu, 17 Oct 2024) EllapsedTime: 41.5 seconds RetCode: 0 Status: OK PackageFile: BEARscc_1.24.0.zip PackageFileSize: 691.5 KiB