Package: BEARscc Version: 1.24.0 Command: F:\biocbuild\bbs-3.19-bioc\R\bin\R.exe CMD check --no-multiarch --install=check:BEARscc.install-out.txt --library=F:\biocbuild\bbs-3.19-bioc\R\library --no-vignettes --timings BEARscc_1.24.0.tar.gz StartedAt: 2024-06-26 23:14:45 -0400 (Wed, 26 Jun 2024) EndedAt: 2024-06-26 23:19:09 -0400 (Wed, 26 Jun 2024) EllapsedTime: 264.1 seconds RetCode: 0 Status: OK CheckDir: BEARscc.Rcheck Warnings: 0