Package: BEARscc Version: 1.24.0 Command: chmod a+r BEARscc -R && F:\biocbuild\bbs-3.19-bioc\R\bin\R.exe CMD build --keep-empty-dirs --no-resave-data BEARscc StartedAt: 2024-06-26 17:16:34 -0400 (Wed, 26 Jun 2024) EndedAt: 2024-06-26 17:17:59 -0400 (Wed, 26 Jun 2024) EllapsedTime: 84.5 seconds RetCode: 0 Status: OK PackageFile: BEARscc_1.24.0.tar.gz PackageFileSize: 640.6 KiB