Package: BEARscc Version: 1.24.0 Command: /home/biocbuild/bbs-3.19-bioc/R/bin/R CMD INSTALL BEARscc StartedAt: 2024-10-16 16:00:06 -0400 (Wed, 16 Oct 2024) EndedAt: 2024-10-16 16:00:36 -0400 (Wed, 16 Oct 2024) EllapsedTime: 30.1 seconds RetCode: 0 Status: OK