Package: BEARscc Version: 1.24.0 Command: /home/biocbuild/bbs-3.19-bioc/R/bin/R CMD check --install=check:BEARscc.install-out.txt --library=/home/biocbuild/bbs-3.19-bioc/R/site-library --timings BEARscc_1.24.0.tar.gz StartedAt: 2024-10-16 21:55:23 -0400 (Wed, 16 Oct 2024) EndedAt: 2024-10-16 21:59:23 -0400 (Wed, 16 Oct 2024) EllapsedTime: 240.5 seconds RetCode: 1 Status: ERROR CheckDir: BEARscc.Rcheck Warnings: NA