Package: BEARscc Version: 1.24.0 Command: /Library/Frameworks/R.framework/Resources/bin/R CMD INSTALL BEARscc StartedAt: 2024-10-16 15:25:01 -0400 (Wed, 16 Oct 2024) EndedAt: 2024-10-16 15:26:07 -0400 (Wed, 16 Oct 2024) EllapsedTime: 66.0 seconds RetCode: 0 Status: OK