Package: BEARscc Version: 1.24.0 Command: rm -rf BEARscc.buildbin-libdir && mkdir BEARscc.buildbin-libdir && /Users/biocbuild/BBS/utils/build-universal.sh BEARscc_1.24.0.tar.gz /Library/Frameworks/R.framework/Resources/bin/R BEARscc.buildbin-libdir StartedAt: 2024-06-10 00:07:52 -0400 (Mon, 10 Jun 2024) EndedAt: 2024-06-10 00:08:35 -0400 (Mon, 10 Jun 2024) EllapsedTime: 42.8 seconds RetCode: 0 Status: OK PackageFile: BEARscc_1.24.0.tgz PackageFileSize: 695.7 KiB