Package: BEARscc Version: 1.24.0 Command: /home/biocbuild/R/R-beta-2024-04-15_r86425/bin/R CMD build --keep-empty-dirs --no-resave-data BEARscc StartedAt: 2024-05-08 22:36:36 -0000 (Wed, 08 May 2024) EndedAt: 2024-05-08 22:37:55 -0000 (Wed, 08 May 2024) EllapsedTime: 79.1 seconds RetCode: 0 Status: OK PackageFile: BEARscc_1.24.0.tar.gz PackageFileSize: 628.8 KiB