Package: BEARscc Version: 1.24.0 Command: rm -rf BEARscc.buildbin-libdir && mkdir BEARscc.buildbin-libdir && /Users/biocbuild/BBS/utils/build-universal.sh BEARscc_1.24.0.tar.gz /Library/Frameworks/R.framework/Resources/bin/R BEARscc.buildbin-libdir StartedAt: 2024-06-11 10:15:43 -0400 (Tue, 11 Jun 2024) EndedAt: 2024-06-11 10:16:55 -0400 (Tue, 11 Jun 2024) EllapsedTime: 72.4 seconds RetCode: 0 Status: OK PackageFile: BEARscc_1.24.0.tgz PackageFileSize: 693.6 KiB