Package: BEARscc Version: 1.24.0 Command: /Library/Frameworks/R.framework/Resources/bin/R CMD check --install=check:BEARscc.install-out.txt --library=/Library/Frameworks/R.framework/Resources/library --no-vignettes --timings BEARscc_1.24.0.tar.gz StartedAt: 2024-10-17 13:23:01 -0400 (Thu, 17 Oct 2024) EndedAt: 2024-10-17 13:27:36 -0400 (Thu, 17 Oct 2024) EllapsedTime: 274.3 seconds RetCode: 1 Status: ERROR CheckDir: BEARscc.Rcheck Warnings: NA