Package: BEARscc Version: 1.24.0 Command: /Library/Frameworks/R.framework/Resources/bin/R CMD build --keep-empty-dirs --no-resave-data BEARscc StartedAt: 2024-10-16 20:03:47 -0400 (Wed, 16 Oct 2024) EndedAt: 2024-10-16 20:05:04 -0400 (Wed, 16 Oct 2024) EllapsedTime: 77.7 seconds RetCode: 0 Status: OK PackageFile: BEARscc_1.24.0.tar.gz PackageFileSize: 651.9 KiB