Package: BEARscc Version: 1.24.0 Command: rm -rf BEARscc.buildbin-libdir && mkdir BEARscc.buildbin-libdir && /Users/biocbuild/BBS/utils/build-universal.sh BEARscc_1.24.0.tar.gz /Library/Frameworks/R.framework/Resources/bin/R BEARscc.buildbin-libdir StartedAt: 2024-10-18 17:26:28 -0400 (Fri, 18 Oct 2024) EndedAt: 2024-10-18 17:27:11 -0400 (Fri, 18 Oct 2024) EllapsedTime: 43.2 seconds RetCode: 0 Status: OK PackageFile: BEARscc_1.24.0.tgz PackageFileSize: 695.2 KiB