Package: BDMMAcorrect Version: 1.22.0 Command: E:\biocbuild\bbs-3.19-bioc\R\bin\R.exe CMD INSTALL BDMMAcorrect StartedAt: 2024-10-16 16:34:59 -0400 (Wed, 16 Oct 2024) EndedAt: 2024-10-16 16:35:54 -0400 (Wed, 16 Oct 2024) EllapsedTime: 54.5 seconds RetCode: 0 Status: OK