Package: BDMMAcorrect Version: 1.22.0 Command: chmod a+r BDMMAcorrect -R && E:\biocbuild\bbs-3.19-bioc\R\bin\R.exe CMD build --keep-empty-dirs --no-resave-data BDMMAcorrect StartedAt: 2024-10-16 17:41:33 -0400 (Wed, 16 Oct 2024) EndedAt: 2024-10-16 17:56:50 -0400 (Wed, 16 Oct 2024) EllapsedTime: 917.2 seconds RetCode: 0 Status: OK PackageFile: BDMMAcorrect_1.22.0.tar.gz PackageFileSize: 396.6 KiB