Package: BDMMAcorrect Version: 1.22.0 Command: rm -rf BDMMAcorrect.buildbin-libdir && mkdir BDMMAcorrect.buildbin-libdir && E:\biocbuild\bbs-3.19-bioc\R\bin\R.exe CMD INSTALL --build --library=BDMMAcorrect.buildbin-libdir BDMMAcorrect_1.22.0.tar.gz StartedAt: 2024-10-17 07:22:48 -0400 (Thu, 17 Oct 2024) EndedAt: 2024-10-17 07:23:43 -0400 (Thu, 17 Oct 2024) EllapsedTime: 55.1 seconds RetCode: 0 Status: OK PackageFile: BDMMAcorrect_1.22.0.zip PackageFileSize: 807.3 KiB