Package: BDMMAcorrect Version: 1.22.0 Command: rm -rf BDMMAcorrect.buildbin-libdir && mkdir BDMMAcorrect.buildbin-libdir && /Users/biocbuild/BBS/utils/build-universal.sh BDMMAcorrect_1.22.0.tar.gz /Library/Frameworks/R.framework/Resources/bin/R BDMMAcorrect.buildbin-libdir StartedAt: 2024-10-18 17:25:28 -0400 (Fri, 18 Oct 2024) EndedAt: 2024-10-18 17:26:21 -0400 (Fri, 18 Oct 2024) EllapsedTime: 53.9 seconds RetCode: 0 Status: OK PackageFile: BDMMAcorrect_1.22.0.tgz PackageFileSize: 508.3 KiB