Package: BCRANK Version: 1.66.0 Command: /home/biocbuild/R/R-beta-2024-04-15_r86425/bin/R CMD check --install=check:BCRANK.install-out.txt --library=/home/biocbuild/R/R-beta-2024-04-15_r86425/site-library --no-vignettes --timings BCRANK_1.66.0.tar.gz StartedAt: 2024-05-09 05:01:52 -0000 (Thu, 09 May 2024) EndedAt: 2024-05-09 05:03:30 -0000 (Thu, 09 May 2024) EllapsedTime: 98.1 seconds RetCode: 0 Status: OK CheckDir: BCRANK.Rcheck Warnings: 0