Package: BCRANK Version: 1.66.0 Command: /Library/Frameworks/R.framework/Resources/bin/R CMD build --keep-empty-dirs --no-resave-data BCRANK StartedAt: 2024-10-16 19:58:33 -0400 (Wed, 16 Oct 2024) EndedAt: 2024-10-16 19:58:55 -0400 (Wed, 16 Oct 2024) EllapsedTime: 21.5 seconds RetCode: 0 Status: OK PackageFile: BCRANK_1.66.0.tar.gz PackageFileSize: 2.903 MiB