Package: BASiCStan Version: 1.6.0 Command: E:\biocbuild\bbs-3.19-bioc\R\bin\R.exe CMD check --no-multiarch --install=check:BASiCStan.install-out.txt --library=E:\biocbuild\bbs-3.19-bioc\R\library --no-vignettes --timings BASiCStan_1.6.0.tar.gz StartedAt: 2024-10-16 23:01:53 -0400 (Wed, 16 Oct 2024) EndedAt: 2024-10-16 23:08:41 -0400 (Wed, 16 Oct 2024) EllapsedTime: 407.9 seconds RetCode: 0 Status: OK CheckDir: BASiCStan.Rcheck Warnings: 0