Package: BASiCStan Version: 1.6.0 Command: rm -rf BASiCStan.buildbin-libdir && mkdir BASiCStan.buildbin-libdir && E:\biocbuild\bbs-3.19-bioc\R\bin\R.exe CMD INSTALL --build --library=BASiCStan.buildbin-libdir BASiCStan_1.6.0.tar.gz StartedAt: 2024-10-17 07:22:14 -0400 (Thu, 17 Oct 2024) EndedAt: 2024-10-17 07:33:16 -0400 (Thu, 17 Oct 2024) EllapsedTime: 662.3 seconds RetCode: 0 Status: OK PackageFile: BASiCStan_1.6.0.zip PackageFileSize: 1.215 MiB