Package: BASiCStan Version: 1.6.0 Command: F:\biocbuild\bbs-3.19-bioc\R\bin\R.exe CMD INSTALL BASiCStan StartedAt: 2024-06-26 16:46:50 -0400 (Wed, 26 Jun 2024) EndedAt: 2024-06-26 16:52:41 -0400 (Wed, 26 Jun 2024) EllapsedTime: 351.0 seconds RetCode: 0 Status: OK